BEGIN:VCALENDAR
VERSION:2.0
PRODID:-//eventon.com NONSGML v1.0//EN
CALSCALE:GREGORIAN
METHOD:PUBLISH
BEGIN:VEVENT
UID:69e7d699cc5eb
DTSTAMP:20260421T195713Z
DTSTART:20220117
DTEND:20220118
LOCATION:ELBEUF 76500 Elbeuf
SUMMARY:Une bulle pour l'emploi - Promotion de janvier 2022 Elbeuf
DESCRIPTION:L’Espace Emploi Agirc-Arrco et Stimulab vous proposent d’in
 tégrer un accompagnementvisant à construire un projet professionnel qui p
 uisse être en phase avec sonbien-être\,  ses objectifs de santé personne
 lle et sa qualité de vie. L’objectif est celuidu retour à l’emploi ou
  l’accès à une formation professionnelle. En complément des services d
 e Pôle[..]\nhttps://onconormandie2017.seree.fr/events/une-bulle-pour-lempl
 oi-promotion-de-janvier-2022-elbeuf/
URL:https://onconormandie2017.seree.fr/events/une-bulle-pour-lemploi-promotion-de-janvier-2022-elbeuf/
END:VEVENT
END:VCALENDAR