BEGIN:VCALENDAR
VERSION:2.0
PRODID:-//eventon.com NONSGML v1.0//EN
CALSCALE:GREGORIAN
METHOD:PUBLISH
BEGIN:VEVENT
UID:69e7d697c4664
DTSTAMP:20260421T195711Z
DTSTART:20220517T060000Z
DTEND:20220517T100000Z
LOCATION:Restaurant Le Tablier - Saint Contest
SUMMARY:Formation "ChimiothÃ©rapie orale : sensibilisation et accompagnement rÃ©gional"
DESCRIPTION:OncoNormandie\,  Qual&rsquo;Va et l&rsquo;OMÃ©DIT Normandie\,  
 en partenariat avec l&rsquo;ARS Normandie et le 3C du CHU de Caen\,  vous p
 roposent une sensibilisation et un accompagnement rÃ©gional sur les chimiot
 hÃ©rapies orales. Cette formation gratuite est destinÃ© aux mÃ©decins gÃ©nÃ
 ©ralistes\,  infirmiers libÃ©raux\,  pharmaciens et prÃ©parateurs en offici
 ne. Formation DPC (sous rÃ©serve de validation[..]\nhttps://onconormandie20
 17.seree.fr/events/chimiotherapie-orale-sensibilisation-et-accompagnement-r
 egional/
URL:https://onconormandie2017.seree.fr/events/chimiotherapie-orale-sensibilisation-et-accompagnement-regional/
END:VEVENT
END:VCALENDAR