BEGIN:VCALENDAR
VERSION:2.0
PRODID:-//eventon.com NONSGML v1.0//EN
CALSCALE:GREGORIAN
METHOD:PUBLISH
BEGIN:VEVENT
UID:69e7d6916c8df
DTSTAMP:20260421T195705Z
DTSTART:20220901
DTEND:20220902
LOCATION:Caen
SUMMARY:Une bulle pour l'emploi - Promotion de Septembre 2022 - Pierre Heuzé
DESCRIPTION:L’Espace Emploi Agirc-Arrco et Stimulab vous proposent d’in
 tégrer unaccompagnement visant à construire un projet professionnel qui p
 uisse être enphase avec son bien-être\,  ses objectifs de santé personne
 lle et sa qualité de vie.L’objectif est celui du retour à l’emploi ou
  l’accès à une formation professionnelle. Démarrage début septembre 2
 022 à Caen[..]\nhttps://onconormandie2017.seree.fr/events/une-bulle-pour-l
 emploi-promotion-de-septembre-2022-pierre-heuze/
URL:https://onconormandie2017.seree.fr/events/une-bulle-pour-lemploi-promotion-de-septembre-2022-pierre-heuze/
END:VEVENT
END:VCALENDAR