BEGIN:VCALENDAR
VERSION:2.0
PRODID:-//eventon.com NONSGML v1.0//EN
CALSCALE:GREGORIAN
METHOD:PUBLISH
BEGIN:VEVENT
UID:69e7d6c87d9fd
DTSTAMP:20260421T195800Z
DTSTART:20220916T200000Z
DTEND:20220917T040000Z
LOCATION:CHU DE CAEN
SUMMARY:Cancer de l'enfant : continuité de la prise en charge ville-hôpital
DESCRIPTION:Télécharger la plaquette Télécharger la convention DPC à r
 etourner lors de l&rsquo;inscription\nhttps://onconormandie2017.seree.fr/ev
 ents/cancer-de-lenfant-continuite-de-la-prise-en-charge-ville-hopital/
URL:https://onconormandie2017.seree.fr/events/cancer-de-lenfant-continuite-de-la-prise-en-charge-ville-hopital/
END:VEVENT
END:VCALENDAR