BEGIN:VCALENDAR
VERSION:2.0
PRODID:-//eventon.com NONSGML v1.0//EN
CALSCALE:GREGORIAN
METHOD:PUBLISH
BEGIN:VEVENT
UID:69e7d692e595a
DTSTAMP:20260421T195706Z
DTSTART:20221014
DTEND:20221015
LOCATION:Le Clos de la Vaupalière Rue Louis-Joseph Gay-Lussac\,  76150 La Vaupalière
SUMMARY:Mon corps et/est l'autre\,  à l'épreuve du cancer - 2e Journée régionale psycho-oncologie
DESCRIPTION:La 2ème journée régionale spécifique de l&rsquo;accompagnem
 ent en psycho-oncologie aura lieu le 14 octobre prochain\,  au Clos de la V
 aupalière près de Rouen.  Inscrivez-vous en ligne dès maintenant\,  c&r
 squo;est simple et gratuit : inscription ici Télécharger le programme com
 plet ici\nhttps://onconormandie2017.seree.fr/events/mon-corps-et-est-lautre
 -a-lepreuve-du-cancer-journee-regionale-psycho-oncologie/
URL:https://onconormandie2017.seree.fr/events/mon-corps-et-est-lautre-a-lepreuve-du-cancer-journee-regionale-psycho-oncologie/
END:VEVENT
END:VCALENDAR