BEGIN:VCALENDAR
VERSION:2.0
PRODID:-//eventon.com NONSGML v1.0//EN
CALSCALE:GREGORIAN
METHOD:PUBLISH
BEGIN:VEVENT
UID:69e7d6971f710
DTSTAMP:20260421T195711Z
DTSTART:20221007T050000Z
DTEND:20221007T090000Z
LOCATION:Les jardins de Deauville - Saint Martin aux Chartrains
SUMMARY:Soirée de restitution de la mise à jour du référentiel référentiel normand du cancer du sein invasif
DESCRIPTION:Participez à la soirée de restitution de la mise à jour du r
 éférentiel normand du cancer du sein invasif : Jeudi 06 octobre 2022 de 1
 8h à 22hA l’hôtel Les Jardins de Deauville Le programme de la soirée s
 era animé par le Dr Marianne LEHEURTEUR\,  oncologue médicale au CLCC Hen
 ri[..]\nhttps://onconormandie2017.seree.fr/events/soiree-de-restitution-de-
 la-mise-a-jour-du-referentiel-normand-du-sein/
URL:https://onconormandie2017.seree.fr/events/soiree-de-restitution-de-la-mise-a-jour-du-referentiel-normand-du-sein/
END:VEVENT
END:VCALENDAR