BEGIN:VCALENDAR
VERSION:2.0
PRODID:-//eventon.com NONSGML v1.0//EN
CALSCALE:GREGORIAN
METHOD:PUBLISH
BEGIN:VEVENT
UID:69e7d659336eb
DTSTAMP:20260421T195609Z
DTSTART:20220920
DTEND:20220921
LOCATION:Réunion digitale
SUMMARY:Wébinaires : Comment orienter mon patient atteint de cancer vers le retour à l'emploi ?
DESCRIPTION:Inscrivez-vous à l&rsquo;une des 4 dates proposées en cliquan
 t ici De nouvelles dates\,  avec des professionnels des autres département
 s de la région\,  sont à venir. Restez connectés !\nhttps://onconormandi
 e2017.seree.fr/events/webinaires-comment-orienter-mon-patient-atteint-de-ca
 ncer-vers-le-retour-a-lemploi/
URL:https://onconormandie2017.seree.fr/events/webinaires-comment-orienter-mon-patient-atteint-de-cancer-vers-le-retour-a-lemploi/
END:VEVENT
END:VCALENDAR