BEGIN:VCALENDAR
VERSION:2.0
PRODID:-//eventon.com NONSGML v1.0//EN
CALSCALE:GREGORIAN
METHOD:PUBLISH
BEGIN:VEVENT
UID:69e7d698c4050
DTSTAMP:20260421T195712Z
DTSTART:20220923T053000Z
DTEND:20220923T090000Z
LOCATION:AMIRAUTE DEAUVILLE
SUMMARY:Forum de Recherche Clinique
DESCRIPTION:Participez au Forum de Recherche Clinique et Cancer organisé p
 ar OncoNormandie le 22 septembre 2022 ! Télécharger le programme et inscr
 ivez-vous sans tarder !\nhttps://onconormandie2017.seree.fr/events/forum-de
 -recherche-clinique/
URL:https://onconormandie2017.seree.fr/events/forum-de-recherche-clinique/
END:VEVENT
END:VCALENDAR