BEGIN:VCALENDAR
VERSION:2.0
PRODID:-//eventon.com NONSGML v1.0//EN
CALSCALE:GREGORIAN
METHOD:PUBLISH
BEGIN:VEVENT
UID:69e7d6984907a
DTSTAMP:20260421T195712Z
DTSTART:20221008T010000Z
DTEND:20221008T020000Z
LOCATION:Réunion digitale
SUMMARY:Atelier de Recherche Clinique - Actualités sur les tumeurs cérébrales
DESCRIPTION:Pour vous inscrire\,  envoyez un mail à p.radenac@onconormandi
 e.fr\nhttps://onconormandie2017.seree.fr/events/atelier-de-recherche-cliniq
 ue-actualites-sur-les-tumeurs-cerebrales/
URL:https://onconormandie2017.seree.fr/events/atelier-de-recherche-clinique-actualites-sur-les-tumeurs-cerebrales/
END:VEVENT
END:VCALENDAR