BEGIN:VCALENDAR
VERSION:2.0
PRODID:-//eventon.com NONSGML v1.0//EN
CALSCALE:GREGORIAN
METHOD:PUBLISH
BEGIN:VEVENT
UID:69e7d69155173
DTSTAMP:20260421T195705Z
DTSTART:20220921T060000Z
DTEND:20220921T073000Z
LOCATION:Réunion digitale
SUMMARY:Webinaire - La Normandie prend le cancer à la gorge !
DESCRIPTION:Dans le cadre de la semaine «Make Sense Campaign»\,  semaine 
 internationale de sensibilisation aux cancers de VADS\,  la Normandie vous 
 propose un webinaire d’information et de prévention des cancers VADS : M
 ardi 20 septembre 2022\,  de 19h à 20h30 par visioconférence Au programme
  : Présentation de cas cliniques sur les[..]\nhttps://onconormandie2017.se
 ree.fr/events/webinaire-la-normandie-prend-le-cancer-a-la-gorge/
URL:https://onconormandie2017.seree.fr/events/webinaire-la-normandie-prend-le-cancer-a-la-gorge/
END:VEVENT
END:VCALENDAR