BEGIN:VCALENDAR
VERSION:2.0
PRODID:-//eventon.com NONSGML v1.0//EN
CALSCALE:GREGORIAN
METHOD:PUBLISH
BEGIN:VEVENT
UID:69e7bfaced46d
DTSTAMP:20260421T181924Z
DTSTART:20230929T070000Z
DTEND:20230929T150000Z
LOCATION:Hôtel Mercure Caen Côte de Nacre
SUMMARY:Pédiatrie OncoNormandie : journée régionale 2023
DESCRIPTION:L&rsquo;équipe du dispositif « Pédiatrie OncoNormandie » 
 vous invite à la journée annuelle qu&rsquo;elle organise le 29 septembre 
 2023 à Caen. Télécharger le programme prévisionnel complet   Les inscr
 iptions sont ouvertes ! Cliquer ici pour accéder au site d&rsquo;inscripti
 on ou flashez le code\nhttps://onconormandie2017.seree.fr/events/pediatrie-
 onconormandie-journee-regionale-2023/
URL:https://onconormandie2017.seree.fr/events/pediatrie-onconormandie-journee-regionale-2023/
END:VEVENT
END:VCALENDAR