BEGIN:VCALENDAR
VERSION:2.0
PRODID:-//eventon.com NONSGML v1.0//EN
CALSCALE:GREGORIAN
METHOD:PUBLISH
BEGIN:VEVENT
UID:69e7d3c019364
DTSTAMP:20260421T194504Z
DTSTART:20230915T070000Z
DTEND:20230915T120000Z
LOCATION:Place Saint Sauveur\,  Caen
SUMMARY:Prostate Bus
DESCRIPTION:\nhttps://onconormandie2017.seree.fr/events/prostate-bus/
URL:https://onconormandie2017.seree.fr/events/prostate-bus/
END:VEVENT
END:VCALENDAR