BEGIN:VCALENDAR
VERSION:2.0
PRODID:-//eventon.com NONSGML v1.0//EN
CALSCALE:GREGORIAN
METHOD:PUBLISH
BEGIN:VEVENT
UID:69e7bd6f0ff8e
DTSTAMP:20260421T180951Z
DTSTART:20231005T183000Z
DTEND:20231005T203000Z
LOCATION:Réunion digitale
SUMMARY:WEBINAIRE : LA KINÉSITHÉRAPIE ET LE CANCER DU SEIN
DESCRIPTION:Rendez-vous le 5 octobre 2023 à 20h30 pour un webinaire ayant 
 pour thème : « la kinésithérapie et le cancer du sein ». Modalités 
 d&rsquo;inscription ci-dessous : \nhttps://onconormandie2017.seree.fr/even
 ts/webinaire-la-kinesitherapie-et-le-cancer-du-sein/
URL:https://onconormandie2017.seree.fr/events/webinaire-la-kinesitherapie-et-le-cancer-du-sein/
END:VEVENT
END:VCALENDAR