BEGIN:VCALENDAR
VERSION:2.0
PRODID:-//eventon.com NONSGML v1.0//EN
CALSCALE:GREGORIAN
METHOD:PUBLISH
BEGIN:VEVENT
UID:69e7ad76eba15
DTSTAMP:20260421T170142Z
DTSTART:20250930
DTEND:20251001
LOCATION:Centre Henri Becquerel - Rouen
SUMMARY:PrÃ©vention des cancers gynÃ©cologiques : orienter la patiente vers une prise en charge spÃ©cialisÃ©e
DESCRIPTION:2 sessions : 24/06 ou 30/09/25 0.5 jour prÃ©sentiel Objectif :Â
   DÃ©rivÃ©e de la formation Â« ReconnaÃ®tre les signes d&rsquo;une patholog
 ie cancÃ©reuse ORL : Orienter le patient vers une prise en charge spÃ©ciali
 sÃ©e Â» et construite sur le mÃªme modÃ¨le\,  nous souhaitons aborder la pr
 oblÃ©matique des cancers fÃ©minins dont l&rsquo;incidence[..]\nhttps://onco
 normandie2017.seree.fr/events/prevention-des-cancers-gynecologiques-oriente
 r-la-patiente-vers-une-prise-en-charge-specialisee-2/
URL:https://onconormandie2017.seree.fr/events/prevention-des-cancers-gynecologiques-orienter-la-patiente-vers-une-prise-en-charge-specialisee-2/
END:VEVENT
END:VCALENDAR