BEGIN:VCALENDAR
VERSION:2.0
PRODID:-//eventon.com NONSGML v1.0//EN
CALSCALE:GREGORIAN
METHOD:PUBLISH
BEGIN:VEVENT
UID:69e7d691e3fed
DTSTAMP:20260421T195705Z
DTSTART:20250224
DTEND:20250225
LOCATION:Centre François Baclesse Avenue du général Harris -14000 Caen
SUMMARY:Soins des patients stomisés (DPC)
DESCRIPTION:Formation du 24 février au 24 avril 2025 Infos et inscriptions
 .\nhttps://onconormandie2017.seree.fr/events/soins-des-patients-stomises-dp
 c/
URL:https://onconormandie2017.seree.fr/events/soins-des-patients-stomises-dpc/
END:VEVENT
END:VCALENDAR