BEGIN:VCALENDAR
VERSION:2.0
PRODID:-//eventon.com NONSGML v1.0//EN
CALSCALE:GREGORIAN
METHOD:PUBLISH
BEGIN:VEVENT
UID:69e7c39c01bcb
DTSTAMP:20260421T183612Z
DTSTART:20250513T180000Z
DTEND:20250513T190000Z
LOCATION:PFRS Caen
SUMMARY:Conférence : Les chutes chez les séniors en cancérologie
DESCRIPTION:Le 13 mai 2025\,  nous organisons une conférence essentielle s
 ur la prévention des chutes chez les personnes âgées atteintes de cancer
 \,  ici à Caen. Cet événement se déroulera de 18h à 19h à l’Amphi R
 obba PFRS\,  situé au 2 rue des Rochambelles\,  14000 Caen\,  et sera éga
 lement accessible en ligne.[..]\nhttps://onconormandie2017.seree.fr/events/
 conference-les-chutes-chez-les-seniors-en-cancerologie/
URL:https://onconormandie2017.seree.fr/events/conference-les-chutes-chez-les-seniors-en-cancerologie/
END:VEVENT
END:VCALENDAR