BEGIN:VCALENDAR
VERSION:2.0
PRODID:-//eventon.com NONSGML v1.0//EN
CALSCALE:GREGORIAN
METHOD:PUBLISH
BEGIN:VEVENT
UID:69e7c3be72260
DTSTAMP:20260421T183646Z
DTSTART:20251126
DTEND:20251127
LOCATION:Amphithéâtre Lecat\,  CHU de Rouen
SUMMARY:12ème journée normande d’actualités sur les cancers des personnes âgées
DESCRIPTION:La 12ème édition de la journée normande d&rsquo;actualités 
 sur les cancers des personnes âgées\,  organisée en partenariat avec l&r
 squo;OMEDIT Normandie cette année\,  aura lieu le mercredi 26 novembre 202
 5 à l&rsquo;amphithéâtre LECAT du CHU Rouen Normandie. Notez dès mainte
 nant cette date dans votre agenda et inscrivez-vous ici ! Découvrez le[..]
 \nhttps://onconormandie2017.seree.fr/events/12eme-journee-normande-dactuali
 tes-sur-les-cancers-des-personnes-agees/
URL:https://onconormandie2017.seree.fr/events/12eme-journee-normande-dactualites-sur-les-cancers-des-personnes-agees/
END:VEVENT
END:VCALENDAR