BEGIN:VCALENDAR
VERSION:2.0
PRODID:-//eventon.com NONSGML v1.0//EN
CALSCALE:GREGORIAN
METHOD:PUBLISH
BEGIN:VEVENT
UID:69e7aeabd9792
DTSTAMP:20260421T170651Z
DTSTART:20250918T190000Z
DTEND:20250918T210000Z
LOCATION:Centre François Baclesse Avenue du général Harris -14000 Caen
SUMMARY:Les jeudis de l'oncologie - Après un cancer gynécologique : quel suivi ? Comment améliorer la qualité de vie ?
DESCRIPTION:Septembre Turquoise est le mois en faveur de la prévention des
  cancers gynécologiques. A cette occasion\,  le Dr Coraline Dubot-Poitelon
  &#8211; Centre François Baclesse Caen vous propose une soirée dédiée a
 u suivi des femmes après un traitement pour un cancer gynécologique\,  po
 ur une meilleure qualité de vie. Au programme :[..]\nhttps://onconormandie
 2017.seree.fr/events/les-jeudis-de-loncologie-apres-un-cancer-gynecologique
 -quel-suivi-comment-ameliorer-la-qualite-de-vie/
URL:https://onconormandie2017.seree.fr/events/les-jeudis-de-loncologie-apres-un-cancer-gynecologique-quel-suivi-comment-ameliorer-la-qualite-de-vie/
END:VEVENT
END:VCALENDAR