BEGIN:VCALENDAR
VERSION:2.0
PRODID:-//eventon.com NONSGML v1.0//EN
CALSCALE:GREGORIAN
METHOD:PUBLISH
BEGIN:VEVENT
UID:69e7ad83081af
DTSTAMP:20260421T170155Z
DTSTART:20250922
DTEND:20250923
LOCATION:Centre Henri Becquerel - Rouen
SUMMARY:Conférence "Prévention des cancers gynécologiques"
DESCRIPTION:A l&rsquo;occasion de Septembre Turquoise\,  mois de sensibilis
 ation aux cancers gynécologiques\,  le Centre Henri Becquerel organise une
  conférence dédiée à la prévention des cancers gynécologiques. Cette 
 conférence aura lieu en présentiel ou en distanciel le lundi 22 septembre
  2025\,  de 19h00 à 20h30.  Inscription gratuite en cliquant ici\nhttps:/
 /onconormandie2017.seree.fr/events/conference-prevention-des-cancers-gyneco
 logiques-2/
URL:https://onconormandie2017.seree.fr/events/conference-prevention-des-cancers-gynecologiques-2/
END:VEVENT
END:VCALENDAR