BEGIN:VCALENDAR
VERSION:2.0
PRODID:-//eventon.com NONSGML v1.0//EN
CALSCALE:GREGORIAN
METHOD:PUBLISH
BEGIN:VEVENT
UID:69e77a0b2bd62
DTSTAMP:20260421T132219Z
DTSTART:20260319T090000Z
DTEND:20260605T170000Z
LOCATION:Medical Training Center - Rouen Normandie
SUMMARY:MTC LAB 360Â° - Perfectionnez-vous Ã  l'annonce en cancÃ©rologie
DESCRIPTION:Les 19-20 mars et 5 juin 2026\,  une formation par simulation Ã
   la fois innovante et interactive vous est proposÃ©e par le CHU de Rouen a
 u Medical Training Center dans le but d&rsquo;approfondir lâ€™approche de l
 a relation soignant-soignÃ© et des mÃ©canismes psychologiques liÃ©s Ã  lâ€™
 annonce dâ€™un cancer. Lâ€™annonce dâ€™un cancer[..]\nhttps://onconormandie
 2017.seree.fr/events/mtc-lab-360-perfectionnez-vous-a-lannonce-en-cancerolo
 gie/
URL:https://onconormandie2017.seree.fr/events/mtc-lab-360-perfectionnez-vous-a-lannonce-en-cancerologie/
END:VEVENT
END:VCALENDAR