BEGIN:VCALENDAR
VERSION:2.0
PRODID:-//eventon.com NONSGML v1.0//EN
CALSCALE:GREGORIAN
METHOD:PUBLISH
BEGIN:VEVENT
UID:69e77a0c14b9a
DTSTAMP:20260421T132220Z
DTSTART:20261118T190000Z
DTEND:20261118T203000Z
LOCATION:Centre Henri Becquerel
SUMMARY:Rendez-vous Becquerel : Cancer de la prostate : du dépistage à la surveillance
DESCRIPTION:Date : 18 novembre 2026 de 19h à 20h30 (en présentiel ou dist
 anciel) Lieu : Centre Henri Becquerel CHB 5\,  Salle de conférence Cliquez
  ici pour vous inscrire\nhttps://onconormandie2017.seree.fr/events/rendez-v
 ous-becquerel-cancer-de-la-prostate-du-depistage-a-la-surveillance/
URL:https://onconormandie2017.seree.fr/events/rendez-vous-becquerel-cancer-de-la-prostate-du-depistage-a-la-surveillance/
END:VEVENT
END:VCALENDAR