BEGIN:VCALENDAR
VERSION:2.0
PRODID:-//eventon.com NONSGML v1.0//EN
CALSCALE:GREGORIAN
METHOD:PUBLISH
BEGIN:VEVENT
UID:69e77a0b9c201
DTSTAMP:20260421T132219Z
DTSTART:20261116T190000Z
DTEND:20261116T203000Z
LOCATION:Centre Henri Becquerel
SUMMARY:Rendez-vous Becquerel : La prise en charge bucco-dentaire en cancérologie : entre ville et hôpital
DESCRIPTION:Date : 16 novembre 2026\,  de 19h à 20h30 (en présentiel ou d
 istanciel) Lieu&nbsp;: Centre Henri Becquerel\,  CHB 5\,  Salle de confére
 nce &nbsp; Cliquez ici pour vous inscrire\nhttps://onconormandie2017.seree.
 fr/events/rendez-vous-becquerel-la-prise-en-charge-bucco-dentaire-en-cancer
 ologie-entre-ville-et-hopital/
URL:https://onconormandie2017.seree.fr/events/rendez-vous-becquerel-la-prise-en-charge-bucco-dentaire-en-cancerologie-entre-ville-et-hopital/
END:VEVENT
END:VCALENDAR