BEGIN:VCALENDAR
VERSION:2.0
PRODID:-//eventon.com NONSGML v1.0//EN
CALSCALE:GREGORIAN
METHOD:PUBLISH
BEGIN:VEVENT
UID:69e763369b0e1
DTSTAMP:20260421T114454Z
DTSTART:20260519
DTEND:20260520
LOCATION:Lyon
SUMMARY:Conférence scientifique internationale – La recherche sur le cancer en action 
DESCRIPTION:Date : 19-21 mai 2026 Lieu : Lyon\,  France – Halle Tony Garn
 ier et Centre international de recherche sur le cancer (CIRC)  Le Centre i
 nternational de recherche sur le cancer (CIRC/OMS) a le plaisir d&rsquo;inv
 iter les chercheurs\,  les professionnels de la santé publique et les déc
 ideurs politiques du monde entier[..]\nhttps://onconormandie2017.seree.fr/e
 vents/conference-scientifique-internationale-la-recherche-sur-le-cancer-en-
 action/
URL:https://onconormandie2017.seree.fr/events/conference-scientifique-internationale-la-recherche-sur-le-cancer-en-action/
END:VEVENT
END:VCALENDAR