BEGIN:VCALENDAR
VERSION:2.0
PRODID:-//eventon.com NONSGML v1.0//EN
CALSCALE:GREGORIAN
METHOD:PUBLISH
BEGIN:VEVENT
UID:69e78e95b7539
DTSTAMP:20260421T144957Z
DTSTART:20261112
DTEND:20261113
LOCATION:Centre Henri Becquerel - Rouen
SUMMARY:Sensibilisation à la prise en charge spécifique des Adolescents et Jeunes Adultes en cancérologie
DESCRIPTION:Le 12 novembre 2026 Formation à destination de tout profession
 nel intervenant auprès des AJA en ville ou à l&rsquo;hôpital Objectifs :
  · Informer les patients AJA\,  les aidants et d&rsquo;autres professionne
 ls impliqués dans la prise en charge des AJA · Repérer les patients AJA 
 et évaluer les besoins psycho-sociaux et[..]\nhttps://onconormandie2017.se
 ree.fr/events/sensibilisation-a-la-prise-en-charge-specifique-des-adolescen
 ts-et-jeunes-adultes-en-cancerologie/
URL:https://onconormandie2017.seree.fr/events/sensibilisation-a-la-prise-en-charge-specifique-des-adolescents-et-jeunes-adultes-en-cancerologie/
END:VEVENT
END:VCALENDAR