BEGIN:VCALENDAR
VERSION:2.0
PRODID:-//eventon.com NONSGML v1.0//EN
CALSCALE:GREGORIAN
METHOD:PUBLISH
BEGIN:VEVENT
UID:69e78eafbfad9
DTSTAMP:20260421T145023Z
DTSTART:20260608T084500Z
DTEND:20260608T170000Z
LOCATION:Centre Henri Becquerel - Rouen
SUMMARY:Recruter dans le partenariat en santÃ©
DESCRIPTION:Le 08 juin 2026 Formation Ã  destination de toute personne amen
 Ã©e Ã  sÃ©lectionner des personnes souhaitant s&rsquo;impliquer dans le par
 tenariat avec les patients. Objectifs : Â· DÃ©finir le(s) profil(s) de cand
 idat(s) selon le(s) projet(s) ; Â· Identifier les canaux de recrutement ; Â
 · S&rsquo;approprier un processus de recrutement ; Â·[..]\nhttps://onconorm
 andie2017.seree.fr/events/recruter-dans-le-partenariat-en-sante/
URL:https://onconormandie2017.seree.fr/events/recruter-dans-le-partenariat-en-sante/
END:VEVENT
END:VCALENDAR