BEGIN:VCALENDAR
VERSION:2.0
PRODID:-//eventon.com NONSGML v1.0//EN
CALSCALE:GREGORIAN
METHOD:PUBLISH
BEGIN:VEVENT
UID:69e77a2fb6341
DTSTAMP:20260421T132255Z
DTSTART:20260601T090000Z
DTEND:20260601T173000Z
LOCATION:Centre Henri Becquerel - Rouen
SUMMARY:Prise en charge des traitements anticancéreux injectables en HAD 
DESCRIPTION:Le 01 juin 2026 : Formation à destination des Médecins\,  IDE
 \,  pharmaciens\,  préparateurs en pharmacie exerçants en HAD.  Objectif
 s :  Se familiariser avec les pathologies cancéreuses  Connaître les 
 différentes molécules éligibles  Intégrer les recommandations de pré-
 injection au lit du patient  Gérer les évènements indésirables  Se si
 tuer dans les différents circuits Ville–Hôpital [..]\nhttps://onconorm
 andie2017.seree.fr/events/prise-en-charge-des-traitements-anticancereux-inj
 ectables-en-had/
URL:https://onconormandie2017.seree.fr/events/prise-en-charge-des-traitements-anticancereux-injectables-en-had/
END:VEVENT
END:VCALENDAR