BEGIN:VCALENDAR
VERSION:2.0
PRODID:-//eventon.com NONSGML v1.0//EN
CALSCALE:GREGORIAN
METHOD:PUBLISH
BEGIN:VEVENT
UID:69e78eafb59b7
DTSTAMP:20260421T145023Z
DTSTART:20260407
DTEND:20260408
LOCATION:Centre Henri Becquerel - Rouen
SUMMARY:Prévention des cancers gynécologiques : orienter la patiente vers une prise en charge spécialisée
DESCRIPTION:2 sessions en 2026 : 07 avril 2026 et le 29 septembre 2026&nb
 sp; Formation à destination des professionnels de l&rsquo;accompagnement d
 es publics vulnérables.&nbsp; Objectifs :&nbsp; Connaitre le contexte é
 pidémiologique&nbsp; Reconnaitre les signes d’appels d’un cancer gyné
 cologique&nbsp; Connaitre les conséquences d’une prise en charge tardive
 &nbsp; Lien d’inscription : Prévention des cancers gynécologiques : o
 rienter[..]\nhttps://onconormandie2017.seree.fr/events/prevention-des-cance
 rs-gynecologiques-orienter-la-patiente-vers-une-prise-en-charge-specialisee
 -3/
URL:https://onconormandie2017.seree.fr/events/prevention-des-cancers-gynecologiques-orienter-la-patiente-vers-une-prise-en-charge-specialisee-3/
END:VEVENT
END:VCALENDAR