BEGIN:VCALENDAR
VERSION:2.0
PRODID:-//eventon.com NONSGML v1.0//EN
CALSCALE:GREGORIAN
METHOD:PUBLISH
BEGIN:VEVENT
UID:69e78e95c43b5
DTSTAMP:20260421T144957Z
DTSTART:20260317T083000Z
DTEND:20261201T163000Z
LOCATION:Centre Henri Becquerel - Rouen
SUMMARY:Plaies\,  cicatrisation et pansements en oncologie 
DESCRIPTION:Formation à destination des Infirmiers Diplômés d&rsquo;Etat
  en Etablissement de santé\,  des Pharmaciens et Préparateurs en pharmaci
 e d&rsquo;officine.&nbsp; 4 sessions en 2026 : 17/03/2026 – 19/05/2026 
 – 06/10/2026 – 01/12/2026  Objectifs :  Connaitre la classification
  des plaies  Comprendre et connaitre le processus de cicatrisation des pla
 ies  Connaitre la famille des pansements  Savoir[..]\nhttps://onconormand
 ie2017.seree.fr/events/plaies-cicatrisation-et-pansements-en-oncologie-3/
URL:https://onconormandie2017.seree.fr/events/plaies-cicatrisation-et-pansements-en-oncologie-3/
END:VEVENT
END:VCALENDAR