BEGIN:VCALENDAR
VERSION:2.0
PRODID:-//eventon.com NONSGML v1.0//EN
CALSCALE:GREGORIAN
METHOD:PUBLISH
BEGIN:VEVENT
UID:69e77a2e83388
DTSTAMP:20260421T132254Z
DTSTART:20260323T090000Z
DTEND:20260914T173000Z
LOCATION:Centre Henri Becquerel - Rouen
SUMMARY:Manipulation\,  utilisation et rÃ©fection du pansement d'un cathÃ©ter Ã  chambre implantableÂ 
DESCRIPTION:2 sessions en 2026â€¯: 23 mars 2026 et 14 septembre 2026Â  Le p
 rogramme de formation est structurÃ© autour de cours en E-learning\,  suivi
  d&rsquo;une journÃ©e en prÃ©sentiel\,  offrant un Ã©quilibre entre la thÃ©
 orie et la pratique.&nbsp; Formation Ã  destination des Infirmiers diplÃ´mÃ
 ©s d&rsquo;Ã‰tat travaillant en libÃ©ral ou dans des Ã©tablissements[..]\nh
 ttps://onconormandie2017.seree.fr/events/manipulation-utilisation-et-refect
 ion-du-pansement-dun-catheter-a-chambre-implantable-5/
URL:https://onconormandie2017.seree.fr/events/manipulation-utilisation-et-refection-du-pansement-dun-catheter-a-chambre-implantable-5/
END:VEVENT
END:VCALENDAR