BEGIN:VCALENDAR
VERSION:2.0
PRODID:-//eventon.com NONSGML v1.0//EN
CALSCALE:GREGORIAN
METHOD:PUBLISH
BEGIN:VEVENT
UID:69e7635ed4a56
DTSTAMP:20260421T114534Z
DTSTART:20260428
DTEND:20260429
LOCATION:Centre Henri Becquerel - Rouen
SUMMARY:Les médicaments de chimiothérapie anticancéreuse\,  de la théorie à la pratique
DESCRIPTION:4 sessions en 2026 : Du 28 au 30/04/26 – Du 09 au 11/06/202
 6 – Du 08 au 10/09/2026 – Du 24 au 26/11/2026&nbsp; Formation à destin
 ation des Préparateurs en pharmacie\,  des Préparateurs diplômés en pha
 rmacie hospitalière\,  des Professionnels ayant ou non une expérience en 
 manipulation des médicaments liés à la[..]\nhttps://onconormandie2017.se
 ree.fr/events/les-medicaments-de-chimiotherapie-anticancereuse-de-la-theori
 e-a-la-pratique-4/
URL:https://onconormandie2017.seree.fr/events/les-medicaments-de-chimiotherapie-anticancereuse-de-la-theorie-a-la-pratique-4/
END:VEVENT
END:VCALENDAR