BEGIN:VCALENDAR
VERSION:2.0
PRODID:-//eventon.com NONSGML v1.0//EN
CALSCALE:GREGORIAN
METHOD:PUBLISH
BEGIN:VEVENT
UID:69e78eafb8b1b
DTSTAMP:20260421T145023Z
DTSTART:20260921
DTEND:20260922
LOCATION:Centre Henri Becquerel - Rouen
SUMMARY:HÃ©mopathies malignes et soinsÂ 
DESCRIPTION:Du 21 au 25 septembre 2026Â  Formation Ã  destination des IDE e
 xerÃ§ant dans un secteur d&rsquo;hÃ©matologie.&nbsp; Objectifsâ€¯:Â  ConnaÃ
 ®tre et dÃ©finir les prÃ©requis utiles Ã  la prise en charge des personnes 
 atteintes d&rsquo;hÃ©mopathie maligneÂ  DÃ©crire et comprendre les mÃ©canis
 mes physiopathologiques des hÃ©mopathies malignes et leur traitementÂ  Conn
 aÃ®tre les principes et les[..]\nhttps://onconormandie2017.seree.fr/events/
 hemopathies-malignes-et-soins-3/
URL:https://onconormandie2017.seree.fr/events/hemopathies-malignes-et-soins-3/
END:VEVENT
END:VCALENDAR