BEGIN:VCALENDAR
VERSION:2.0
PRODID:-//eventon.com NONSGML v1.0//EN
CALSCALE:GREGORIAN
METHOD:PUBLISH
BEGIN:VEVENT
UID:69e78ec41efb2
DTSTAMP:20260421T145044Z
DTSTART:20260602T083000Z
DTEND:20260605T170000Z
LOCATION:Centre Henri Becquerel - Rouen
SUMMARY:La prise en charge des lymphomes 
DESCRIPTION:Le 02 juin 2026 de 8h30 à 17h00 au 05 juin 2026 de 8h30 à 12
 h30 Formation à destination des IDE exerçant dans un secteur d&rsquo;hém
 atologie.&nbsp; Objectifs :  Approfondir les connaissances sur la pathol
 ogie des lymphomes hodgkiniens et non hodgkiniens (épidémiologie\,  diagn
 ostic\,  traitements)  Connaître le parcours d&rsquo;un patient suivi pou
 r lymphome (du[..]\nhttps://onconormandie2017.seree.fr/events/la-prise-en-c
 harge-des-lymphomes/
URL:https://onconormandie2017.seree.fr/events/la-prise-en-charge-des-lymphomes/
END:VEVENT
END:VCALENDAR