BEGIN:VCALENDAR
VERSION:2.0
PRODID:-//eventon.com NONSGML v1.0//EN
CALSCALE:GREGORIAN
METHOD:PUBLISH
BEGIN:VEVENT
UID:69e77a4e72047
DTSTAMP:20260421T132326Z
DTSTART:20261102T083000Z
DTEND:20261103T173000Z
LOCATION:Centre Henri Becquerel - Rouen
SUMMARY:Technicien de laboratoire médical : maîtriser les phases pré-analytique\,  analytique et la gestion des risques des prélèvements (socle commun aux journées optionnelles de spécialisation) 
DESCRIPTION:Du 02 au 03 novembre 2026 – 1 journée optionnelle le 10 déc
 embre 2026  Formation DPC constituée d&rsquo;un socle commun de 2 jours c
 omprenant dans son programme les sujets suivants : la Biologie clinique\,  
 moléculaire\,  la cytogénétique\,  l&rsquo;ACP\,  l&rsquo;hygiène\,  la
  sécurité et l&rsquo;environnement.&nbsp; Puis de manière optionnelle\, 
  deux autres journées[..]\nhttps://onconormandie2017.seree.fr/events/techn
 icien-de-laboratoire-medical-maitriser-les-phases-pre-analytique-analytique
 -et-la-gestion-des-risques-des-prelevements-socle-commun-aux-journees-optio
 nnelles-de-specialisation-2/
URL:https://onconormandie2017.seree.fr/events/technicien-de-laboratoire-medical-maitriser-les-phases-pre-analytique-analytique-et-la-gestion-des-risques-des-prelevements-socle-commun-aux-journees-optionnelles-de-specialisation-2/
END:VEVENT
END:VCALENDAR