BEGIN:VCALENDAR
VERSION:2.0
PRODID:-//eventon.com NONSGML v1.0//EN
CALSCALE:GREGORIAN
METHOD:PUBLISH
BEGIN:VEVENT
UID:69e77a2f47ffb
DTSTAMP:20260421T132255Z
DTSTART:20261014
DTEND:20261015
LOCATION:Centre Henri Becquerel - Rouen
SUMMARY:CAMAC 26 : Gynécologie : quoi de neuf en cancérologie ? 
DESCRIPTION:Du 14 au 16 octobre 2026&nbsp; Congrès des Assistant(e)s Médi
 co-Administratifs-(ves) en Cancérologie et des professionnels acteurs dans
  la prise en charge socio-administrative des patients atteints de cancer.&n
 bsp; Formation à destination des professionnels acteurs de la prise en cha
 rge socio-médico-administrative des patients atteints de cancer : Assistan
 t médico-administratif(ve)\,  Assistant(e) social(e)\,  personnel[..]\nhtt
 ps://onconormandie2017.seree.fr/events/camac-26-gynecologie-quoi-de-neuf-en
 -cancerologie/
URL:https://onconormandie2017.seree.fr/events/camac-26-gynecologie-quoi-de-neuf-en-cancerologie/
END:VEVENT
END:VCALENDAR