BEGIN:VCALENDAR
VERSION:2.0
PRODID:-//eventon.com NONSGML v1.0//EN
CALSCALE:GREGORIAN
METHOD:PUBLISH
BEGIN:VEVENT
UID:69e78eb02103a
DTSTAMP:20260421T145024Z
DTSTART:20260402T084500Z
DTEND:20261203T164500Z
LOCATION:Centre Henri Becquerel - Rouen
SUMMARY:Bonnes pratiques d'utilisation d'un cathéter à insertion périphérique : Picc Line
DESCRIPTION:4 sessions en 2026 : 02/04/2026 – 04/06/2026 – 01/10/2026
  – 03/12/2026&nbsp; Votre programme de formation évolue !&nbsp; Afin de 
 mieux répondre à vos besoins et de renforcer vos compétences pratiques\,
   la formation « Bonnes pratiques d&rsquo;utilisation du cathéter centra
 l à insertion périphérique (Picc Line) » adopte un nouveau format sur 
 une journée[..]\nhttps://onconormandie2017.seree.fr/events/bonnes-pratique
 s-dutilisation-dun-catheter-a-insertion-peripherique-picc-line-4/
URL:https://onconormandie2017.seree.fr/events/bonnes-pratiques-dutilisation-dun-catheter-a-insertion-peripherique-picc-line-4/
END:VEVENT
END:VCALENDAR