BEGIN:VCALENDAR
VERSION:2.0
PRODID:-//eventon.com NONSGML v1.0//EN
CALSCALE:GREGORIAN
METHOD:PUBLISH
BEGIN:VEVENT
UID:69e78e961e93c
DTSTAMP:20260421T144958Z
DTSTART:20261105
DTEND:20261106
LOCATION:Centre Henri Becquerel - Rouen
SUMMARY:Améliorer l'accompagnement paramédical pour les patients atteints de cancer des Voies Aéro-Digestives Supérieures (VADS) 
DESCRIPTION:Du 05/11 au 06/11 et du 30/11 au 01/12/2026 – 4 jours&nbsp; F
 ormation à destination des Infirmiers Diplômés d&rsquo;Etat en secteur l
 ibéral ou hospitalier.&nbsp; Objectifs :&nbsp; Acquérir de nouvelles co
 nnaissances et compétences en cancérologie ORL&nbsp; Prendre efficacement
  en charge un patient traité pour cancer des Voies Aéro-Digestives Supér
 ieures (VADS)&nbsp; Assurer la[..]\nhttps://onconormandie2017.seree.fr/even
 ts/ameliorer-laccompagnement-paramedical-pour-les-patients-atteints-de-canc
 er-des-voies-aero-digestives-superieures-vads-3/
URL:https://onconormandie2017.seree.fr/events/ameliorer-laccompagnement-paramedical-pour-les-patients-atteints-de-cancer-des-voies-aero-digestives-superieures-vads-3/
END:VEVENT
END:VCALENDAR