BEGIN:VCALENDAR
VERSION:2.0
PRODID:-//eventon.com NONSGML v1.0//EN
CALSCALE:GREGORIAN
METHOD:PUBLISH
BEGIN:VEVENT
UID:69e77a4e91e7b
DTSTAMP:20260421T132326Z
DTSTART:20260917T084500Z
DTEND:20260917T163000Z
LOCATION:Centre Henri Becquerel - Rouen
SUMMARY:Accompagner la douleur du cancer : les recours mÃ©dicamenteux et non mÃ©dicamenteux pour les professionnels
DESCRIPTION:Le 17 septembre 2026 Public&nbsp;: Aide-soignant(e)\,  IDE LibÃ
 ©ral(e) Hospitalier(e)\,  kinÃ©sithÃ©rapeute\,  Assistant(e) social(e)\,  M
 Ã©decin\,  Psychologue en contact avec les patients douloureux chroniques d
 &rsquo;origine cancÃ©reuse et/ou Professionnel en soins de supports\,  Inte
 rvenant(e) en EHPAD ObjectifsÂ : ApprÃ©hender\,  reconnaÃ®tre les composant
 es et les rÃ©percussions de la douleur sur la qualitÃ© de vie du patient[..
 ]\nhttps://onconormandie2017.seree.fr/events/accompagner-la-douleur-du-canc
 er-les-recours-medicamenteux-et-non-medicamenteux-pour-les-professionnels-2
 /
URL:https://onconormandie2017.seree.fr/events/accompagner-la-douleur-du-cancer-les-recours-medicamenteux-et-non-medicamenteux-pour-les-professionnels-2/
END:VEVENT
END:VCALENDAR