BEGIN:VCALENDAR
VERSION:2.0
PRODID:-//eventon.com NONSGML v1.0//EN
CALSCALE:GREGORIAN
METHOD:PUBLISH
BEGIN:VEVENT
UID:69e77a4faad4a
DTSTAMP:20260421T132327Z
DTSTART:20261210T083000Z
DTEND:20261210T173000Z
LOCATION:Centre Henri Becquerel - Rouen
SUMMARY:Journée de spécialisation Biologie spécialisée : Technicien de laboratoire médical
DESCRIPTION:Le 10 décembre 2026 Public&nbsp;: Détenir ou être en cours d
 e formation d&rsquo;un diplôme de technicien de laboratoire selon l&rsquo;
 arrêté du 21 octobre 1992 fixant la liste des titres exigés des personne
 s employées en qualité de technicien dans un laboratoire d&rsquo;analyses
  de biologie médicale. Prérequis&nbsp;: Avoir participé au socle commun[
 ..]\nhttps://onconormandie2017.seree.fr/events/journee-de-specialisation-bi
 ologie-specialisee-technicien-de-laboratoire-medical/
URL:https://onconormandie2017.seree.fr/events/journee-de-specialisation-biologie-specialisee-technicien-de-laboratoire-medical/
END:VEVENT
END:VCALENDAR