BEGIN:VCALENDAR
VERSION:2.0
PRODID:-//eventon.com NONSGML v1.0//EN
CALSCALE:GREGORIAN
METHOD:PUBLISH
BEGIN:VEVENT
UID:69e78e95af4ed
DTSTAMP:20260421T144957Z
DTSTART:20261119T084500Z
DTEND:20261120T163000Z
LOCATION:Centre Henri Becquerel - Rouen
SUMMARY:Les clÃ©s du parcours du cancer du sein localisÃ© du diagnostic au suivi\,  un enjeu collectif de qualitÃ© des soins
DESCRIPTION:Du 19/11/2026 au 20/11/2026 Formation Ã  destination des profes
 sionnels paramÃ©dicaux impliquÃ©s dans le parcours oncologique. PrÃ©requis&
 nbsp;: Avoir participÃ© au socle commun de la formation Â«&nbsp;Technicien 
 de laboratoire mÃ©dical : maÃ®triser les phases prÃ©-analytique\,  analytiq
 ue et la gestion des risques des prÃ©lÃ¨vements.&nbsp;Â» Objectifs&nbsp;: Ã
 € l&rsquo;issue de la formation\,  les participants seront[..]\nhttps://onc
 onormandie2017.seree.fr/events/les-cles-du-parcours-du-cancer-du-sein-local
 ise-du-diagnostic-au-suivi-un-enjeu-collectif-de-qualite-des-soins/
URL:https://onconormandie2017.seree.fr/events/les-cles-du-parcours-du-cancer-du-sein-localise-du-diagnostic-au-suivi-un-enjeu-collectif-de-qualite-des-soins/
END:VEVENT
END:VCALENDAR