BEGIN:VCALENDAR
VERSION:2.0
PRODID:-//eventon.com NONSGML v1.0//EN
CALSCALE:GREGORIAN
METHOD:PUBLISH
BEGIN:VEVENT
UID:69e77a303669f
DTSTAMP:20260421T132256Z
DTSTART:20260326T084500Z
DTEND:20261210T164500Z
LOCATION:Centre Henri Becquerel - Rouen
SUMMARY:Angiomammographie Interventionnelle : Les Bonnes Pratiques du Manipulateur
DESCRIPTION:4 sessions en 2026&nbsp;: 26/03/26 &#8211; 18/06/26 &#8211; 08/
 10/26 &#8211; 10/12/26 Prérequis&nbsp;: Diplôme de technicien supérieur 
 en imagerie médicale et radiothérapeutique ou Diplôme d’état de manip
 ulateur en électroradiologie médicale Formé en mammographie conventionne
 lle +/- interventionnelle Connaissance de la technique d’angiomammographi
 e Objectifs : Savoir expliquer l’examen au patient Vérifier les contre-
 indications de[..]\nhttps://onconormandie2017.seree.fr/events/angiomammogra
 phie-interventionnelle-les-bonnes-pratiques-du-manipulateur/
URL:https://onconormandie2017.seree.fr/events/angiomammographie-interventionnelle-les-bonnes-pratiques-du-manipulateur/
END:VEVENT
END:VCALENDAR