BEGIN:VCALENDAR
VERSION:2.0
PRODID:-//eventon.com NONSGML v1.0//EN
CALSCALE:GREGORIAN
METHOD:PUBLISH
BEGIN:VEVENT
UID:69e78e769e91e
DTSTAMP:20260421T144926Z
DTSTART:20260430T083000Z
DTEND:20260430T170000Z
LOCATION:Auditorium du Château de Caen
SUMMARY:2ème Journée Universitaire de Normandie Occidentale (JUNO) « Santé de la femme »
DESCRIPTION:Le 30 avril 2026 aura lieu la 2ème édition du congrès JUNO S
 anté de la Femme. Cet évènement\,  organisée et présidée par le Pr Ra
 ffaèle FAUVET abordera : La santé sexuelle et l&rsquo;Aide Médicale à l
 a Procréation L&rsquo;endométriose Le col de l&rsquo;utérus L&rsquo;obst
 étrique Informations pratiques : Date : 30 avril[..]\nhttps://onconormandi
 e2017.seree.fr/events/2eme-journee-universitaire-de-normandie-occidentale-j
 uno-sante-de-la-femme/
URL:https://onconormandie2017.seree.fr/events/2eme-journee-universitaire-de-normandie-occidentale-juno-sante-de-la-femme/
END:VEVENT
END:VCALENDAR