BEGIN:VCALENDAR
VERSION:2.0
PRODID:-//eventon.com NONSGML v1.0//EN
CALSCALE:GREGORIAN
METHOD:PUBLISH
BEGIN:VEVENT
UID:69e78e4d2b49e
DTSTAMP:20260421T144845Z
DTSTART:20260521
DTEND:20260522
LOCATION:
SUMMARY:Normandie sporte contre le cancerÂ : Ã©dition 2026Â 
DESCRIPTION:Les 21 et 22 mai 2026 Normandie sporte contre le cancer revient
  pour une toute nouvelle Ã©dition dans les 16 Ã©tablissements de santÃ© par
 ticipants. Cet Ã©vÃ©nement rÃ©gional vise Ã  promouvoir les bienfaits de lâ
 €™activitÃ© physique adaptÃ©e (APA) en cancÃ©rologie auprÃ¨s des patients e
 t des professionnels de santÃ©. Au programme :[..]\nhttps://onconormandie20
 17.seree.fr/events/normandie-sporte-contre-le-cancer-edition-2026/
URL:https://onconormandie2017.seree.fr/events/normandie-sporte-contre-le-cancer-edition-2026/
END:VEVENT
END:VCALENDAR