BEGIN:VCALENDAR
VERSION:2.0
PRODID:-//eventon.com NONSGML v1.0//EN
CALSCALE:GREGORIAN
METHOD:PUBLISH
BEGIN:VEVENT
UID:69e78e76c4d0e
DTSTAMP:20260421T144926Z
DTSTART:20260924
DTEND:20260925
LOCATION:Caen
SUMMARY:4áµ‰ CongrÃ¨s National des Infirmiers en Pratique AvancÃ©e (IPA) Unicancer
DESCRIPTION:Les 24 et 25 septembre 2026\,  Caen accueillera le 4áµ‰ CongrÃ¨
 s National des Infirmiers en Pratique AvancÃ©e (IPA) Unicancer. Ce rendez-v
 ous national rÃ©unira IPA\,  universitaires\,  dÃ©cideurs et partenaires au
 tour dâ€™un enjeu central : affirmer la place stratÃ©gique des IPA dans lâ€
 ™Ã©volution des parcours en cancÃ©rologie. Cette Ã©dition sâ€™articule auto
 ur des[..]\nhttps://onconormandie2017.seree.fr/events/4%e1%b5%89-congres-na
 tional-des-infirmiers-en-pratique-avancee-ipa-unicancer/
URL:https://onconormandie2017.seree.fr/events/4%e1%b5%89-congres-national-des-infirmiers-en-pratique-avancee-ipa-unicancer/
END:VEVENT
END:VCALENDAR