BEGIN:VCALENDAR
VERSION:2.0
PRODID:-//eventon.com NONSGML v1.0//EN
CALSCALE:GREGORIAN
METHOD:PUBLISH
BEGIN:VEVENT
UID:69e764a216785
DTSTAMP:20260421T115058Z
DTSTART:20260521T090000Z
DTEND:20260521T170000Z
LOCATION:UFR de Santé - Rouen
SUMMARY:6e Journée régionale de soins palliatifs pédiatriques
DESCRIPTION:la 6ᵉ Journée Régionale de Soins Palliatifs Pédiatriques N
 ormande organisée par l’ERRSPP du CHU de Rouen se tiendra le 21 mai 2026
  à Rouen à l&rsquo; UFR Santé de 9h à 17h. Cette journée sera placée 
 sous le thème « En mouvement : penser\,  soigner\,  accompagner ». Inscr
 iptions ici\nhttps://onconormandie2017.seree.fr/events/6e-journee-regionale
 -de-soins-palliatifs-pediatriques/
URL:https://onconormandie2017.seree.fr/events/6e-journee-regionale-de-soins-palliatifs-pediatriques/
END:VEVENT
END:VCALENDAR