BEGIN:VCALENDAR
VERSION:2.0
PRODID:-//eventon.com NONSGML v1.0//EN
CALSCALE:GREGORIAN
METHOD:PUBLISH
BEGIN:VEVENT
UID:69e78e66ab4a7
DTSTAMP:20260421T144910Z
DTSTART:20260611T084500Z
DTEND:20260611T183000Z
LOCATION:Centre Havrais de Commerce International 182 Quai George V\,  76600 Le Havre
SUMMARY:Journée Onco&Co : Le cancer en Normandie\,  ensemble\,  parlons-en !
DESCRIPTION:La 3ème édition de la journée Onco&amp;Co “Le cancer en No
 rmandie\,  ensemble\,  parlons-en!” aura lieu le jeudi 11 juin 2026 au Ha
 vre. Cette journée\,  organisée par OncoNormandie\,  regroupera l’ensem
 ble des acteurs impliqués en cancérologie de la région et abordera en p
 remière partie la prévention et le dépistage\,  le parcours de santé\, 
 [..]\nhttps://onconormandie2017.seree.fr/events/journee-oncoco-le-cancer-en
 -normandie-ensemble-parlons-en/
URL:https://onconormandie2017.seree.fr/events/journee-oncoco-le-cancer-en-normandie-ensemble-parlons-en/
END:VEVENT
END:VCALENDAR