BEGIN:VCALENDAR
VERSION:2.0
PRODID:-//eventon.com NONSGML v1.0//EN
CALSCALE:GREGORIAN
METHOD:PUBLISH
BEGIN:VEVENT
UID:69e78e66ab4aa
DTSTAMP:20260421T144910Z
DTSTART:20260608
DTEND:20260609
LOCATION:CID Deauville 14800 Deauville
SUMMARY:64e conférence annuelle du PTCOG - Société savante Internationale de thérapie par particules
DESCRIPTION:La  64e  conférence annuelle du PTCOG  est une  expéri
 ence immersive de six jours qui rassemble la communauté mondiale de la 
  thérapie par particules pour partager la recherche\,  discuter des avanc
 ées cliniques et explorer les technologies émergentes.   Ce congrès es
 t organisé en 3 temps : Programme éducatif (8-9 juin)Approfondissez vos c
 onnaissances en thérapie par particules grâce à des[..]\nhttps://oncono
 rmandie2017.seree.fr/events/c64e-conference-annuelle-du-ptcog-societe-savan
 te-internationale-de-therapie-par-particules/
URL:https://onconormandie2017.seree.fr/events/c64e-conference-annuelle-du-ptcog-societe-savante-internationale-de-therapie-par-particules/
END:VEVENT
END:VCALENDAR