BEGIN:VCALENDAR
VERSION:2.0
PRODID:-//eventon.com NONSGML v1.0//EN
CALSCALE:GREGORIAN
METHOD:PUBLISH
BEGIN:VEVENT
UID:69e78e66ab515
DTSTAMP:20260421T144910Z
DTSTART:20260428T190000Z
DTEND:20260428T203000Z
LOCATION:Centre Henri Becquerel - Rouen
SUMMARY:Rendez-vous Becquerel : Trachéotomie\,  trachéostomie : Soins et suivi des patients au domicile
DESCRIPTION:Le 28 avril 2026\,  de 19h à 20h30\,  en présentiel ou distan
 ciel Lieu : Centre Henri Becquerel\,  CHB 5\,  Salle de conférence &#8211
 ; Rouen Pour vous inscrire à la conférence cliquez ici   \nhttps://onc
 onormandie2017.seree.fr/events/rendez-vous-becquerel-tracheotomie-tracheost
 omie-soins-et-suivi-des-patients-au-domicile/
URL:https://onconormandie2017.seree.fr/events/rendez-vous-becquerel-tracheotomie-tracheostomie-soins-et-suivi-des-patients-au-domicile/
END:VEVENT
END:VCALENDAR