BEGIN:VCALENDAR
VERSION:2.0
PRODID:-//eventon.com NONSGML v1.0//EN
CALSCALE:GREGORIAN
METHOD:PUBLISH
BEGIN:VEVENT
UID:69e78e66bf2f6
DTSTAMP:20260421T144910Z
DTSTART:20260519T190000Z
DTEND:20260519T210000Z
LOCATION:Centre Henri Becquerel - Rouen
SUMMARY:Rendez-vous Becquerel : Les tumeurs cérébrales : où sommes nous en 2026 ?
DESCRIPTION:Le 19 mai 2026\,  de 19h à 21h\,  en présentiel ou distanciel
  Lieu : Centre Henri Becquerel\,  CHB 5\,  Salle de conférence Pour vous 
 inscrire à la conférence cliquez ici  \nhttps://onconormandie2017.seree.
 fr/events/rendez-vous-becquerel-les-tumeurs-cerebrales-ou-sommes-nous-en-20
 26/
URL:https://onconormandie2017.seree.fr/events/rendez-vous-becquerel-les-tumeurs-cerebrales-ou-sommes-nous-en-2026/
END:VEVENT
END:VCALENDAR